BEGIN:VCALENDAR
VERSION:2.0
PRODID:-//Wspólnota &quot;Własność Pana&quot; - ECPv6.15.18//NONSGML v1.0//EN
CALSCALE:GREGORIAN
METHOD:PUBLISH
X-WR-CALNAME:Wspólnota &quot;Własność Pana&quot;
X-ORIGINAL-URL:https://www.wlasnoscpana.pl
X-WR-CALDESC:Wydarzenia dla Wspólnota &quot;Własność Pana&quot;
REFRESH-INTERVAL;VALUE=DURATION:PT1H
X-Robots-Tag:noindex
X-PUBLISHED-TTL:PT1H
BEGIN:VTIMEZONE
TZID:Europe/Warsaw
BEGIN:DAYLIGHT
TZOFFSETFROM:+0100
TZOFFSETTO:+0200
TZNAME:CEST
DTSTART:20240331T010000
END:DAYLIGHT
BEGIN:STANDARD
TZOFFSETFROM:+0200
TZOFFSETTO:+0100
TZNAME:CET
DTSTART:20241027T010000
END:STANDARD
BEGIN:DAYLIGHT
TZOFFSETFROM:+0100
TZOFFSETTO:+0200
TZNAME:CEST
DTSTART:20250330T010000
END:DAYLIGHT
BEGIN:STANDARD
TZOFFSETFROM:+0200
TZOFFSETTO:+0100
TZNAME:CET
DTSTART:20251026T010000
END:STANDARD
BEGIN:DAYLIGHT
TZOFFSETFROM:+0100
TZOFFSETTO:+0200
TZNAME:CEST
DTSTART:20260329T010000
END:DAYLIGHT
BEGIN:STANDARD
TZOFFSETFROM:+0200
TZOFFSETTO:+0100
TZNAME:CET
DTSTART:20261025T010000
END:STANDARD
END:VTIMEZONE
BEGIN:VEVENT
DTSTART;TZID=Europe/Warsaw:20250111T133000
DTEND;TZID=Europe/Warsaw:20250111T160000
DTSTAMP:20260421T160226
CREATED:20240831T130530Z
LAST-MODIFIED:20240831T130530Z
UID:19785-1736602200-1736611200@www.wlasnoscpana.pl
SUMMARY:Zbiórka Skautów Króla
DESCRIPTION:
URL:https://www.wlasnoscpana.pl/event/zbiorka-skautow-krola-6/
END:VEVENT
BEGIN:VEVENT
DTSTART;TZID=Europe/Warsaw:20250117T190000
DTEND;TZID=Europe/Warsaw:20250117T210000
DTSTAMP:20260421T160226
CREATED:20240827T054747Z
LAST-MODIFIED:20240827T054747Z
UID:19712-1737140400-1737147600@www.wlasnoscpana.pl
SUMMARY:Spotkanie formacyjne dla liderów
DESCRIPTION:Prowadzący: dr. Magdalena Jóźwik\nCzas trwania: 120-150 minut
URL:https://www.wlasnoscpana.pl/event/spotkanie-formacyjne-dla-liderow-6/
END:VEVENT
BEGIN:VEVENT
DTSTART;TZID=Europe/Warsaw:20250120T190000
DTEND;TZID=Europe/Warsaw:20250120T210000
DTSTAMP:20260421T160226
CREATED:20240827T053955Z
LAST-MODIFIED:20240827T054740Z
UID:19692-1737399600-1737406800@www.wlasnoscpana.pl
SUMMARY:Spotkanie formacyjne dla animatorów
DESCRIPTION:Prowadzący: dr. Magdalena Jóźwik\nCzas trwania: 120-150 minut
URL:https://www.wlasnoscpana.pl/event/spotkanie-formacyjne-dla-animatorow-6/
END:VEVENT
BEGIN:VEVENT
DTSTART;TZID=Europe/Warsaw:20250121T200000
DTEND;TZID=Europe/Warsaw:20250121T210000
DTSTAMP:20260421T160226
CREATED:20240826T204754Z
LAST-MODIFIED:20240826T204754Z
UID:19673-1737489600-1737493200@www.wlasnoscpana.pl
SUMMARY:Psychoedukacja\, dr Magdalena Kudełka-Lwowska: Sztuka komunikacji.
DESCRIPTION:
URL:https://www.wlasnoscpana.pl/event/psychoedukacja-dr-magdalena-kudelka-lwowska-sztuka-komunikacji/
END:VEVENT
BEGIN:VEVENT
DTSTART;TZID=Europe/Warsaw:20250128T190000
DTEND;TZID=Europe/Warsaw:20250128T210000
DTSTAMP:20260421T160226
CREATED:20240829T194910Z
LAST-MODIFIED:20240829T194910Z
UID:19758-1738090800-1738098000@www.wlasnoscpana.pl
SUMMARY:Spotkania w małych grupach
DESCRIPTION:
URL:https://www.wlasnoscpana.pl/event/spotkania-w-malych-grupach-5/
END:VEVENT
END:VCALENDAR