BEGIN:VCALENDAR
VERSION:2.0
PRODID:-//Wspólnota &quot;Własność Pana&quot; - ECPv6.15.18//NONSGML v1.0//EN
CALSCALE:GREGORIAN
METHOD:PUBLISH
X-ORIGINAL-URL:https://www.wlasnoscpana.pl
X-WR-CALDESC:Wydarzenia dla Wspólnota &quot;Własność Pana&quot;
REFRESH-INTERVAL;VALUE=DURATION:PT1H
X-Robots-Tag:noindex
X-PUBLISHED-TTL:PT1H
BEGIN:VTIMEZONE
TZID:Europe/Warsaw
BEGIN:DAYLIGHT
TZOFFSETFROM:+0100
TZOFFSETTO:+0200
TZNAME:CEST
DTSTART:20230326T010000
END:DAYLIGHT
BEGIN:STANDARD
TZOFFSETFROM:+0200
TZOFFSETTO:+0100
TZNAME:CET
DTSTART:20231029T010000
END:STANDARD
BEGIN:DAYLIGHT
TZOFFSETFROM:+0100
TZOFFSETTO:+0200
TZNAME:CEST
DTSTART:20240331T010000
END:DAYLIGHT
BEGIN:STANDARD
TZOFFSETFROM:+0200
TZOFFSETTO:+0100
TZNAME:CET
DTSTART:20241027T010000
END:STANDARD
BEGIN:DAYLIGHT
TZOFFSETFROM:+0100
TZOFFSETTO:+0200
TZNAME:CEST
DTSTART:20250330T010000
END:DAYLIGHT
BEGIN:STANDARD
TZOFFSETFROM:+0200
TZOFFSETTO:+0100
TZNAME:CET
DTSTART:20251026T010000
END:STANDARD
END:VTIMEZONE
BEGIN:VEVENT
DTSTART;TZID=Europe/Warsaw:20241003T170000
DTEND;TZID=Europe/Warsaw:20241003T201500
DTSTAMP:20260421T143230
CREATED:20240826T203751Z
LAST-MODIFIED:20240927T190830Z
UID:19646-1727974800-1727986500@www.wlasnoscpana.pl
SUMMARY:Szkoła Animatora - Mała grupa
DESCRIPTION:Szkoła Animatora przeznaczona jest dla wszystkich\, którzy dziś prowadzą małe grupy w swoich wspólnotach czy na rekolekcjach\, ale także dla tych\, którzy pragną wejść w taką posługę w przyszłości. Stanowi ona cykl dziewięciu spotkań\, które mają wyposażyć nas w niezbędną wiedzę\, umiejętności oraz narzędzia do tej bardzo odpowiedzialnej posługi.  \nSpotkania będą odbywać się w każdy czwartek począwszy od 19 września. Ramowy plan spotkania: \n17:00 – Msza parafialna\n17:45 – Szkoła Animatora (modlitwa\, nauczanie\, warsztaty w grupach)\n20:15 – Zakończenie  \nWśród zagadnień poruszanych w trakcie zajęć będą: kim jest animator\, jaka jest jego rola we wspólnocie i małej grupie\, funkcjonowanie i prowadzenie małej grupy\, życie duchowe animatora\, wypalenie animatora\, metody pracy z Biblią\, obdarowanie animatora\, troska o ludzi we wspólnocie. Wspólny czas chcemy wykorzystać nie tylko na zdobywanie wiedzy i umiejętności\, ale także na wymianę doświadczeń. \nTematy spotkań: \n \n\nAnimator i jego wspólnota.\nAnimator i mała grupa.\nMała grupa.\nSpotkanie małej grupy – cz. I.\nSpotkanie małej grupy – cz. II.\nMetody pracy z Biblią.\nObdarowanie animatora.\nFormacja animatora.\nAnimator a budowanie relacji we wspólnocie.\n\nKoszt uczestnictwa w jednym spotkaniu stanowi 11zł. Prosimy aby płatności dokonać jednym przelewem za wszystkie spotkania (łącznie 99zł) na rachunek bankowy:\nParafia Rzymsko-Katolicka pw. Wniebowzięcia NMP\n93 1050 1230 1000 0024 1600 8452 \nMiejsce spotkania: \nParafia Rzymsko-Katolicka pw. Wniebowzięcia NMP\nul. Jana Kużaja 52\n41-922 Radzionków \nWięcej informacji pod numerem telefonu: 506-053-747 \n  \n 
URL:https://www.wlasnoscpana.pl/event/szkola-animatora-mala-grupa/
END:VEVENT
BEGIN:VEVENT
DTSTART;TZID=Europe/Warsaw:20241005T133000
DTEND;TZID=Europe/Warsaw:20241005T160000
DTSTAMP:20260421T143230
CREATED:20240831T130537Z
LAST-MODIFIED:20240831T130537Z
UID:19789-1728135000-1728144000@www.wlasnoscpana.pl
SUMMARY:Zbiórka Skautów Króla
DESCRIPTION:
URL:https://www.wlasnoscpana.pl/event/zbiorka-skautow-krola-10/
END:VEVENT
BEGIN:VEVENT
DTSTART;TZID=Europe/Warsaw:20241007T190000
DTEND;TZID=Europe/Warsaw:20241007T210000
DTSTAMP:20260421T143230
CREATED:20240827T054002Z
LAST-MODIFIED:20240827T054747Z
UID:19695-1728327600-1728334800@www.wlasnoscpana.pl
SUMMARY:Spotkanie formacyjne dla animatorów
DESCRIPTION:Prowadzący: dr. Magdalena Jóźwik\nCzas trwania: 120-150 minut
URL:https://www.wlasnoscpana.pl/event/spotkanie-formacyjne-dla-animatorow-9/
END:VEVENT
BEGIN:VEVENT
DTSTART;TZID=Europe/Warsaw:20241008T190000
DTEND;TZID=Europe/Warsaw:20241008T210000
DTSTAMP:20260421T143230
CREATED:20240829T194910Z
LAST-MODIFIED:20240829T200844Z
UID:19755-1728414000-1728421200@www.wlasnoscpana.pl
SUMMARY:Spotkania w małych grupach
DESCRIPTION:
URL:https://www.wlasnoscpana.pl/event/spotkania-w-malych-grupach-2/
END:VEVENT
BEGIN:VEVENT
DTSTART;TZID=Europe/Warsaw:20241010T170000
DTEND;TZID=Europe/Warsaw:20241010T201500
DTSTAMP:20260421T143230
CREATED:20240826T203751Z
LAST-MODIFIED:20240927T190830Z
UID:19647-1728579600-1728591300@www.wlasnoscpana.pl
SUMMARY:Szkoła Animatora - Spotkanie małej grupy – cz. I.
DESCRIPTION:Szkoła Animatora przeznaczona jest dla wszystkich\, którzy dziś prowadzą małe grupy w swoich wspólnotach czy na rekolekcjach\, ale także dla tych\, którzy pragną wejść w taką posługę w przyszłości. Stanowi ona cykl dziewięciu spotkań\, które mają wyposażyć nas w niezbędną wiedzę\, umiejętności oraz narzędzia do tej bardzo odpowiedzialnej posługi.  \nSpotkania będą odbywać się w każdy czwartek począwszy od 19 września. Ramowy plan spotkania: \n17:00 – Msza parafialna\n17:45 – Szkoła Animatora (modlitwa\, nauczanie\, warsztaty w grupach)\n20:15 – Zakończenie  \nWśród zagadnień poruszanych w trakcie zajęć będą: kim jest animator\, jaka jest jego rola we wspólnocie i małej grupie\, funkcjonowanie i prowadzenie małej grupy\, życie duchowe animatora\, wypalenie animatora\, metody pracy z Biblią\, obdarowanie animatora\, troska o ludzi we wspólnocie. Wspólny czas chcemy wykorzystać nie tylko na zdobywanie wiedzy i umiejętności\, ale także na wymianę doświadczeń. \nTematy spotkań: \n \n\nAnimator i jego wspólnota.\nAnimator i mała grupa.\nMała grupa.\nSpotkanie małej grupy – cz. I.\nSpotkanie małej grupy – cz. II.\nMetody pracy z Biblią.\nObdarowanie animatora.\nFormacja animatora.\nAnimator a budowanie relacji we wspólnocie.\n\nKoszt uczestnictwa w jednym spotkaniu stanowi 11zł. Prosimy aby płatności dokonać jednym przelewem za wszystkie spotkania (łącznie 99zł) na rachunek bankowy:\nParafia Rzymsko-Katolicka pw. Wniebowzięcia NMP\n93 1050 1230 1000 0024 1600 8452 \nMiejsce spotkania: \nParafia Rzymsko-Katolicka pw. Wniebowzięcia NMP\nul. Jana Kużaja 52\n41-922 Radzionków \nWięcej informacji pod numerem telefonu: 506-053-747 \n  \n 
URL:https://www.wlasnoscpana.pl/event/szkola-animatora-spotkanie-malej-grupy-cz-i/
END:VEVENT
BEGIN:VEVENT
DTSTART;TZID=Europe/Warsaw:20241017T170000
DTEND;TZID=Europe/Warsaw:20241017T201500
DTSTAMP:20260421T143230
CREATED:20240826T203751Z
LAST-MODIFIED:20240927T190830Z
UID:19648-1729184400-1729196100@www.wlasnoscpana.pl
SUMMARY:Szkoła Animatora - Spotkanie małej grupy – cz. II.
DESCRIPTION:Szkoła Animatora przeznaczona jest dla wszystkich\, którzy dziś prowadzą małe grupy w swoich wspólnotach czy na rekolekcjach\, ale także dla tych\, którzy pragną wejść w taką posługę w przyszłości. Stanowi ona cykl dziewięciu spotkań\, które mają wyposażyć nas w niezbędną wiedzę\, umiejętności oraz narzędzia do tej bardzo odpowiedzialnej posługi.  \nSpotkania będą odbywać się w każdy czwartek począwszy od 19 września. Ramowy plan spotkania: \n17:00 – Msza parafialna\n17:45 – Szkoła Animatora (modlitwa\, nauczanie\, warsztaty w grupach)\n20:15 – Zakończenie  \nWśród zagadnień poruszanych w trakcie zajęć będą: kim jest animator\, jaka jest jego rola we wspólnocie i małej grupie\, funkcjonowanie i prowadzenie małej grupy\, życie duchowe animatora\, wypalenie animatora\, metody pracy z Biblią\, obdarowanie animatora\, troska o ludzi we wspólnocie. Wspólny czas chcemy wykorzystać nie tylko na zdobywanie wiedzy i umiejętności\, ale także na wymianę doświadczeń. \nTematy spotkań: \n \n\nAnimator i jego wspólnota.\nAnimator i mała grupa.\nMała grupa.\nSpotkanie małej grupy – cz. I.\nSpotkanie małej grupy – cz. II.\nMetody pracy z Biblią.\nObdarowanie animatora.\nFormacja animatora.\nAnimator a budowanie relacji we wspólnocie.\n\nKoszt uczestnictwa w jednym spotkaniu stanowi 11zł. Prosimy aby płatności dokonać jednym przelewem za wszystkie spotkania (łącznie 99zł) na rachunek bankowy:\nParafia Rzymsko-Katolicka pw. Wniebowzięcia NMP\n93 1050 1230 1000 0024 1600 8452 \nMiejsce spotkania: \nParafia Rzymsko-Katolicka pw. Wniebowzięcia NMP\nul. Jana Kużaja 52\n41-922 Radzionków \nWięcej informacji pod numerem telefonu: 506-053-747 \n  \n 
URL:https://www.wlasnoscpana.pl/event/szkola-animatora-spotkanie-malej-grupy-cz-ii/
END:VEVENT
BEGIN:VEVENT
DTSTART;TZID=Europe/Warsaw:20241018T090000
DTEND;TZID=Europe/Warsaw:20241020T170000
DTSTAMP:20260421T143230
CREATED:20240831T131043Z
LAST-MODIFIED:20240831T131043Z
UID:19805-1729242000-1729443600@www.wlasnoscpana.pl
SUMMARY:Zjazd komendantów Skautów Króla
DESCRIPTION:
URL:https://www.wlasnoscpana.pl/event/zjazd-komendantow-skautow-krola/
END:VEVENT
BEGIN:VEVENT
DTSTART;TZID=Europe/Warsaw:20241018T190000
DTEND;TZID=Europe/Warsaw:20241018T210000
DTSTAMP:20260421T143230
CREATED:20240827T054753Z
LAST-MODIFIED:20240827T054753Z
UID:19715-1729278000-1729285200@www.wlasnoscpana.pl
SUMMARY:Spotkanie formacyjne dla liderów
DESCRIPTION:Prowadzący: dr. Magdalena Jóźwik\nCzas trwania: 120-150 minut
URL:https://www.wlasnoscpana.pl/event/spotkanie-formacyjne-dla-liderow-9/
END:VEVENT
BEGIN:VEVENT
DTSTART;TZID=Europe/Warsaw:20241024T170000
DTEND;TZID=Europe/Warsaw:20241024T201500
DTSTAMP:20260421T143230
CREATED:20240826T203751Z
LAST-MODIFIED:20240927T190830Z
UID:19649-1729789200-1729800900@www.wlasnoscpana.pl
SUMMARY:Szkoła Animatora - Metody pracy z Biblią
DESCRIPTION:Szkoła Animatora przeznaczona jest dla wszystkich\, którzy dziś prowadzą małe grupy w swoich wspólnotach czy na rekolekcjach\, ale także dla tych\, którzy pragną wejść w taką posługę w przyszłości. Stanowi ona cykl dziewięciu spotkań\, które mają wyposażyć nas w niezbędną wiedzę\, umiejętności oraz narzędzia do tej bardzo odpowiedzialnej posługi.  \nSpotkania będą odbywać się w każdy czwartek począwszy od 19 września. Ramowy plan spotkania: \n17:00 – Msza parafialna\n17:45 – Szkoła Animatora (modlitwa\, nauczanie\, warsztaty w grupach)\n20:15 – Zakończenie  \nWśród zagadnień poruszanych w trakcie zajęć będą: kim jest animator\, jaka jest jego rola we wspólnocie i małej grupie\, funkcjonowanie i prowadzenie małej grupy\, życie duchowe animatora\, wypalenie animatora\, metody pracy z Biblią\, obdarowanie animatora\, troska o ludzi we wspólnocie. Wspólny czas chcemy wykorzystać nie tylko na zdobywanie wiedzy i umiejętności\, ale także na wymianę doświadczeń. \nTematy spotkań: \n \n\nAnimator i jego wspólnota.\nAnimator i mała grupa.\nMała grupa.\nSpotkanie małej grupy – cz. I.\nSpotkanie małej grupy – cz. II.\nMetody pracy z Biblią.\nObdarowanie animatora.\nFormacja animatora.\nAnimator a budowanie relacji we wspólnocie.\n\nKoszt uczestnictwa w jednym spotkaniu stanowi 11zł. Prosimy aby płatności dokonać jednym przelewem za wszystkie spotkania (łącznie 99zł) na rachunek bankowy:\nParafia Rzymsko-Katolicka pw. Wniebowzięcia NMP\n93 1050 1230 1000 0024 1600 8452 \nMiejsce spotkania: \nParafia Rzymsko-Katolicka pw. Wniebowzięcia NMP\nul. Jana Kużaja 52\n41-922 Radzionków \nWięcej informacji pod numerem telefonu: 506-053-747 \n  \n 
URL:https://www.wlasnoscpana.pl/event/szkola-animatora-metody-pracy-z-biblia/
END:VEVENT
BEGIN:VEVENT
DTSTART;TZID=Europe/Warsaw:20241026T133000
DTEND;TZID=Europe/Warsaw:20241026T160000
DTSTAMP:20260421T143230
CREATED:20240831T130537Z
LAST-MODIFIED:20240831T130537Z
UID:19788-1729949400-1729958400@www.wlasnoscpana.pl
SUMMARY:Zbiórka Skautów Króla
DESCRIPTION:
URL:https://www.wlasnoscpana.pl/event/zbiorka-skautow-krola-9/
END:VEVENT
BEGIN:VEVENT
DTSTART;TZID=Europe/Warsaw:20241029T200000
DTEND;TZID=Europe/Warsaw:20241029T210000
DTSTAMP:20260421T143230
CREATED:20240826T204754Z
LAST-MODIFIED:20241015T140147Z
UID:19676-1730232000-1730235600@www.wlasnoscpana.pl
SUMMARY:Psychoedukacja\, dr Magdalena Kudełka-Lwowska: Klucz do udanych relacji.
DESCRIPTION:
URL:https://www.wlasnoscpana.pl/event/psychoedukacja-dr-magdalena-kudelka-lwowska-klucz-do-udanych-relacji/
END:VEVENT
END:VCALENDAR