BEGIN:VCALENDAR
VERSION:2.0
PRODID:-//Wspólnota &quot;Własność Pana&quot; - ECPv6.15.18//NONSGML v1.0//EN
CALSCALE:GREGORIAN
METHOD:PUBLISH
X-WR-CALNAME:Wspólnota &quot;Własność Pana&quot;
X-ORIGINAL-URL:https://www.wlasnoscpana.pl
X-WR-CALDESC:Wydarzenia dla Wspólnota &quot;Własność Pana&quot;
REFRESH-INTERVAL;VALUE=DURATION:PT1H
X-Robots-Tag:noindex
X-PUBLISHED-TTL:PT1H
BEGIN:VTIMEZONE
TZID:Europe/Warsaw
BEGIN:DAYLIGHT
TZOFFSETFROM:+0100
TZOFFSETTO:+0200
TZNAME:CEST
DTSTART:20230326T010000
END:DAYLIGHT
BEGIN:STANDARD
TZOFFSETFROM:+0200
TZOFFSETTO:+0100
TZNAME:CET
DTSTART:20231029T010000
END:STANDARD
BEGIN:DAYLIGHT
TZOFFSETFROM:+0100
TZOFFSETTO:+0200
TZNAME:CEST
DTSTART:20240331T010000
END:DAYLIGHT
BEGIN:STANDARD
TZOFFSETFROM:+0200
TZOFFSETTO:+0100
TZNAME:CET
DTSTART:20241027T010000
END:STANDARD
BEGIN:DAYLIGHT
TZOFFSETFROM:+0100
TZOFFSETTO:+0200
TZNAME:CEST
DTSTART:20250330T010000
END:DAYLIGHT
BEGIN:STANDARD
TZOFFSETFROM:+0200
TZOFFSETTO:+0100
TZNAME:CET
DTSTART:20251026T010000
END:STANDARD
END:VTIMEZONE
BEGIN:VEVENT
DTSTART;TZID=Europe/Warsaw:20241010T170000
DTEND;TZID=Europe/Warsaw:20241010T201500
DTSTAMP:20260421T155859
CREATED:20240826T203751Z
LAST-MODIFIED:20240927T190830Z
UID:19647-1728579600-1728591300@www.wlasnoscpana.pl
SUMMARY:Szkoła Animatora - Spotkanie małej grupy – cz. I.
DESCRIPTION:Szkoła Animatora przeznaczona jest dla wszystkich\, którzy dziś prowadzą małe grupy w swoich wspólnotach czy na rekolekcjach\, ale także dla tych\, którzy pragną wejść w taką posługę w przyszłości. Stanowi ona cykl dziewięciu spotkań\, które mają wyposażyć nas w niezbędną wiedzę\, umiejętności oraz narzędzia do tej bardzo odpowiedzialnej posługi.  \nSpotkania będą odbywać się w każdy czwartek począwszy od 19 września. Ramowy plan spotkania: \n17:00 – Msza parafialna\n17:45 – Szkoła Animatora (modlitwa\, nauczanie\, warsztaty w grupach)\n20:15 – Zakończenie  \nWśród zagadnień poruszanych w trakcie zajęć będą: kim jest animator\, jaka jest jego rola we wspólnocie i małej grupie\, funkcjonowanie i prowadzenie małej grupy\, życie duchowe animatora\, wypalenie animatora\, metody pracy z Biblią\, obdarowanie animatora\, troska o ludzi we wspólnocie. Wspólny czas chcemy wykorzystać nie tylko na zdobywanie wiedzy i umiejętności\, ale także na wymianę doświadczeń. \nTematy spotkań: \n \n\nAnimator i jego wspólnota.\nAnimator i mała grupa.\nMała grupa.\nSpotkanie małej grupy – cz. I.\nSpotkanie małej grupy – cz. II.\nMetody pracy z Biblią.\nObdarowanie animatora.\nFormacja animatora.\nAnimator a budowanie relacji we wspólnocie.\n\nKoszt uczestnictwa w jednym spotkaniu stanowi 11zł. Prosimy aby płatności dokonać jednym przelewem za wszystkie spotkania (łącznie 99zł) na rachunek bankowy:\nParafia Rzymsko-Katolicka pw. Wniebowzięcia NMP\n93 1050 1230 1000 0024 1600 8452 \nMiejsce spotkania: \nParafia Rzymsko-Katolicka pw. Wniebowzięcia NMP\nul. Jana Kużaja 52\n41-922 Radzionków \nWięcej informacji pod numerem telefonu: 506-053-747 \n  \n 
URL:https://www.wlasnoscpana.pl/event/szkola-animatora-spotkanie-malej-grupy-cz-i/
END:VEVENT
END:VCALENDAR